BEGIN:VCALENDAR
VERSION:2.0
PRODID:-//wp-events-plugin.com//7.2.3.1//EN
TZID:Europe/London
X-WR-TIMEZONE:Europe/London
BEGIN:VEVENT
UID:0-5552@stbarbaras.com
DTSTART;TZID=Europe/London:20240317T160000
DTEND;TZID=Europe/London:20240317T173000
DTSTAMP:20240311T161607Z
URL:http://stbarbaras.com/events/buzz-at-st-bs-easter-craft-workshop/
SUMMARY:Buzz at St B's Easter Craft Workshop
DESCRIPTION:Sunday 17th March 4pm
ATTACH;FMTTYPE=image/jpeg:http://stbarbaras.com/wp-content/uploads/sites/7
 /2024/03/Easter-Suncatcher-Craft-for-Kids_grande.webp
CATEGORIES:headline-when-soon
END:VEVENT
BEGIN:VTIMEZONE
TZID:Europe/London
X-LIC-LOCATION:Europe/London
BEGIN:STANDARD
DTSTART:20231029T010000
TZOFFSETFROM:+0100
TZOFFSETTO:+0000
TZNAME:GMT
END:STANDARD
END:VTIMEZONE
END:VCALENDAR