BEGIN:VCALENDAR
VERSION:2.0
PRODID:-//wp-events-plugin.com//7.2.3.1//EN
TZID:Europe/London
X-WR-TIMEZONE:Europe/London
BEGIN:VEVENT
UID:0-5254@stbarbaras.com
DTSTART;TZID=Europe/London:20200406T193000
DTEND;TZID=Europe/London:20200406T201500
DTSTAMP:20200407T185059Z
URL:http://stbarbaras.com/events/holy-week-compline-2-2020-04-06/
SUMMARY:Holy Week Compline
DESCRIPTION:\n\n\n\n\n\nResources\n\nHoly Week Compline\n\n
CATEGORIES:live-stream
END:VEVENT
BEGIN:VTIMEZONE
TZID:Europe/London
X-LIC-LOCATION:Europe/London
BEGIN:DAYLIGHT
DTSTART:20200329T020000
TZOFFSETFROM:+0000
TZOFFSETTO:+0100
TZNAME:BST
END:DAYLIGHT
END:VTIMEZONE
END:VCALENDAR