BEGIN:VCALENDAR
VERSION:2.0
PRODID:-//wp-events-plugin.com//7.2.3.1//EN
TZID:Europe/London
X-WR-TIMEZONE:Europe/London
BEGIN:VEVENT
UID:0-5289@stbarbaras.com
DTSTART;TZID=Europe/London:20200617T090000
DTEND;TZID=Europe/London:20200618T100000
DTSTAMP:20200616T184515Z
URL:http://stbarbaras.com/events/prayers-and-bears-7/
SUMMARY:Prayers and Bears
DESCRIPTION:\n\n\n
ATTACH;FMTTYPE=image/jpeg:http://stbarbaras.com/wp-content/uploads/sites/7
 /2015/02/prayers-and-bears.jpg
CATEGORIES:headline-when-soon,live-stream
END:VEVENT
BEGIN:VTIMEZONE
TZID:Europe/London
X-LIC-LOCATION:Europe/London
BEGIN:DAYLIGHT
DTSTART:20200329T020000
TZOFFSETFROM:+0000
TZOFFSETTO:+0100
TZNAME:BST
END:DAYLIGHT
END:VTIMEZONE
END:VCALENDAR