BEGIN:VCALENDAR
VERSION:2.0
PRODID:-//wp-events-plugin.com//7.2.3.1//EN
TZID:Europe/London
X-WR-TIMEZONE:Europe/London
BEGIN:VEVENT
UID:0-2731@stbarbaras.com
DTSTART;TZID=Europe/London:20180318T183000
DTEND;TZID=Europe/London:20180318T193000
DTSTAMP:20180130T135516Z
URL:http://stbarbaras.com/events/soul-space-5/
SUMMARY:Soul Space
DESCRIPTION:\n\nBased around the ancient monastic tradition of Compline\, t
 his is a very simple service of silence\, meditation\, prayer and reflecti
 on\, a place to allow one's soul to breathe.
ATTACH;FMTTYPE=image/jpeg:http://stbarbaras.com/wp-content/uploads/sites/7
 /2014/07/chair2.jpg
CATEGORIES:soul-space
LOCATION:St Barbara's Church\, 24 Rochester Road\, Coventry\, CV5 6AG\, Uni
 ted Kingdom
GEO:52.397248;-1.541499
X-APPLE-STRUCTURED-LOCATION;VALUE=URI;X-ADDRESS=24 Rochester Road\, Coventr
 y\, CV5 6AG\, United Kingdom;X-APPLE-RADIUS=100;X-TITLE=St Barbara's Churc
 h:geo:52.397248,-1.541499
END:VEVENT
BEGIN:VTIMEZONE
TZID:Europe/London
X-LIC-LOCATION:Europe/London
BEGIN:STANDARD
DTSTART:20171029T010000
TZOFFSETFROM:+0100
TZOFFSETTO:+0000
TZNAME:GMT
END:STANDARD
END:VTIMEZONE
END:VCALENDAR