BEGIN:VCALENDAR
VERSION:2.0
PRODID:-//wp-events-plugin.com//7.2.3.1//EN
TZID:Europe/London
X-WR-TIMEZONE:Europe/London
BEGIN:VEVENT
UID:0-824@stbarbaras.com
DTSTART;TZID=Europe/London:20150510T193000
DTEND;TZID=Europe/London:20150510T210000
DTSTAMP:20150502T170657Z
URL:https://stbarbaras.com/events/egde/
SUMMARY:EDGE
DESCRIPTION:A group for youth at St Barbara's
ATTACH;FMTTYPE=image/jpeg:https://stbarbaras.com/wp-content/uploads/sites/
 7/2015/05/edge.jpg
CATEGORIES:headlines
LOCATION:Vicarage\, 24 Rochester Rd\, Coventry\,  CV5 6AG\, United Kingdom
GEO:52.396988;-1.539439
X-APPLE-STRUCTURED-LOCATION;VALUE=URI;X-ADDRESS=24 Rochester Rd\, Coventry\
 ,  CV5 6AG\, United Kingdom;X-APPLE-RADIUS=100;X-TITLE=Vicarage:geo:52.396
 988,-1.539439
END:VEVENT
BEGIN:VTIMEZONE
TZID:Europe/London
X-LIC-LOCATION:Europe/London
BEGIN:DAYLIGHT
DTSTART:20150329T020000
TZOFFSETFROM:+0000
TZOFFSETTO:+0100
TZNAME:BST
END:DAYLIGHT
END:VTIMEZONE
END:VCALENDAR