BEGIN:VCALENDAR
VERSION:2.0
PRODID:-//wp-events-plugin.com//7.2.3.1//EN
TZID:Europe/London
X-WR-TIMEZONE:Europe/London
BEGIN:VEVENT
UID:0-5636@stbarbaras.com
DTSTART;TZID=Europe/London:20250417T193000
DTEND;TZID=Europe/London:20250417T204500
DTSTAMP:20250416T125528Z
URL:https://stbarbaras.com/events/maundy-thursday-service-7-30pm/
SUMMARY:Maundy Thursday Service
DESCRIPTION:This service is held in church and is streamed online\n\n\n\n\n
 \nAll of our services are available on our YouTube channel\n\nThis is a be
 autiful service as we remember the Last Supper and gather around the Lord'
 s Table in a special way\, reconnecting with the events of the original Pa
 ssover meal. There is the opportunity for people to stay on after the e
 nd of service for a time of silent prayer and reflection.\n\nMaundy Thurs
 day Service Online
ATTACH;FMTTYPE=image/jpeg:https://stbarbaras.com/wp-content/uploads/sites/
 7/2024/02/Last-supper.jpeg
CATEGORIES:headline-when-soon,headlines,live-stream
END:VEVENT
BEGIN:VTIMEZONE
TZID:Europe/London
X-LIC-LOCATION:Europe/London
BEGIN:DAYLIGHT
DTSTART:20250330T020000
TZOFFSETFROM:+0000
TZOFFSETTO:+0100
TZNAME:BST
END:DAYLIGHT
END:VTIMEZONE
END:VCALENDAR