BEGIN:VCALENDAR
VERSION:2.0
PRODID:-//wp-events-plugin.com//7.2.3.1//EN
TZID:Europe/London
X-WR-TIMEZONE:Europe/London
BEGIN:VEVENT
UID:0-5349@stbarbaras.com
DTSTART;TZID=Europe/London:20210323T194500
DTEND;TZID=Europe/London:20210323T201500
DTSTAMP:20210321T114443Z
URL:https://stbarbaras.com/events/national-day-of-reflection-service/
SUMMARY:National Day of Reflection Service
DESCRIPTION:This online service marks a year since the beginning of the fir
 st UK Covid-19 lockdown
ATTACH;FMTTYPE=image/jpeg:https://stbarbaras.com/wp-content/uploads/sites/
 7/2021/01/silver-cross.jpg
CATEGORIES:headline-when-soon,live-stream
LOCATION:St Barbara's Church\, 24 Rochester Road\, Coventry\, CV5 6AG\, Uni
 ted Kingdom
GEO:52.397248;-1.541499
X-APPLE-STRUCTURED-LOCATION;VALUE=URI;X-ADDRESS=24 Rochester Road\, Coventr
 y\, CV5 6AG\, United Kingdom;X-APPLE-RADIUS=100;X-TITLE=St Barbara's Churc
 h:geo:52.397248,-1.541499
END:VEVENT
BEGIN:VTIMEZONE
TZID:Europe/London
X-LIC-LOCATION:Europe/London
BEGIN:STANDARD
DTSTART:20201025T010000
TZOFFSETFROM:+0100
TZOFFSETTO:+0000
TZNAME:GMT
END:STANDARD
END:VTIMEZONE
END:VCALENDAR