BEGIN:VCALENDAR
VERSION:2.0
PRODID:-//wp-events-plugin.com//7.2.3.1//EN
TZID:Europe/London
X-WR-TIMEZONE:Europe/London
BEGIN:VEVENT
UID:0-5261@stbarbaras.com
DTSTART;TZID=Europe/London:20200419T100000
DTEND;TZID=Europe/London:20200419T110000
DTSTAMP:20200419T095643Z
URL:https://stbarbaras.com/events/sunday-10am-service-19th-april-2020/
SUMMARY:Sunday 10am Service\, 19th April 2020
DESCRIPTION:\n\n\n\n\n\n\nResources\n\nHymns and Songs\nBible Readings\nSer
 mon\nIntercessions\n\n
CATEGORIES:live-stream
END:VEVENT
BEGIN:VTIMEZONE
TZID:Europe/London
X-LIC-LOCATION:Europe/London
BEGIN:DAYLIGHT
DTSTART:20200329T020000
TZOFFSETFROM:+0000
TZOFFSETTO:+0100
TZNAME:BST
END:DAYLIGHT
END:VTIMEZONE
END:VCALENDAR