BEGIN:VCALENDAR
VERSION:2.0
PRODID:-//wp-events-plugin.com//7.2.3.1//EN
TZID:Europe/London
X-WR-TIMEZONE:Europe/London
BEGIN:VEVENT
UID:0-4722@stbarbaras.com
DTSTART;TZID=Europe/London:20200320T220000
DTEND;TZID=Europe/London:20200320T221500
DTSTAMP:20200321T104954Z
URL:https://stbarbaras.com/events/welcome-to-worshipping-together-online/
SUMMARY:Welcome to Worshipping Together Online
DESCRIPTION:Our vicar\, Tulo Raistrick\, introduces our new live-streamed\,
  online events. Please join us on Sunday when we will be broadcasting our 
 first full service.\n\n\n\n\n\n
CATEGORIES:live-stream
END:VEVENT
BEGIN:VTIMEZONE
TZID:Europe/London
X-LIC-LOCATION:Europe/London
BEGIN:STANDARD
DTSTART:20191027T010000
TZOFFSETFROM:+0100
TZOFFSETTO:+0000
TZNAME:GMT
END:STANDARD
END:VTIMEZONE
END:VCALENDAR